BEGIN:VCALENDAR
VERSION:2.0
PRODID:-//National Institute of Building Sciences - ECPv6.15.20//NONSGML v1.0//EN
CALSCALE:GREGORIAN
METHOD:PUBLISH
X-WR-CALNAME:National Institute of Building Sciences
X-ORIGINAL-URL:https://nibs.org
X-WR-CALDESC:Events for National Institute of Building Sciences
REFRESH-INTERVAL;VALUE=DURATION:PT1H
X-Robots-Tag:noindex
X-PUBLISHED-TTL:PT1H
BEGIN:VTIMEZONE
TZID:America/New_York
BEGIN:DAYLIGHT
TZOFFSETFROM:-0500
TZOFFSETTO:-0400
TZNAME:EDT
DTSTART:20250309T070000
END:DAYLIGHT
BEGIN:STANDARD
TZOFFSETFROM:-0400
TZOFFSETTO:-0500
TZNAME:EST
DTSTART:20251102T060000
END:STANDARD
BEGIN:DAYLIGHT
TZOFFSETFROM:-0500
TZOFFSETTO:-0400
TZNAME:EDT
DTSTART:20260308T070000
END:DAYLIGHT
BEGIN:STANDARD
TZOFFSETFROM:-0400
TZOFFSETTO:-0500
TZNAME:EST
DTSTART:20261101T060000
END:STANDARD
BEGIN:DAYLIGHT
TZOFFSETFROM:-0500
TZOFFSETTO:-0400
TZNAME:EDT
DTSTART:20270314T070000
END:DAYLIGHT
BEGIN:STANDARD
TZOFFSETFROM:-0400
TZOFFSETTO:-0500
TZNAME:EST
DTSTART:20271107T060000
END:STANDARD
END:VTIMEZONE
BEGIN:VEVENT
DTSTART;VALUE=DATE:20260225
DTEND;VALUE=DATE:20260226
DTSTAMP:20260419T182333
CREATED:20260217T180949Z
LAST-MODIFIED:20260217T181027Z
UID:23564-1771977600-1772063999@nibs.org
SUMMARY:Architectural Record’s Sustainability in Practice
DESCRIPTION:Architectural Record’s Sustainability in Practice returns February 25\, 2026\, at the Schwarzman College of Computing at MIT. This day-long conference focuses on actionable strategies for sustainable design\, with the opportunity to earn 4.5 AIA LU/HSW credits. Registration is complimentary until January 30.  http://arsustainability.com/
URL:https://nibs.org/event/architectural-records-sustainability-in-practice/
LOCATION:MIT Schwarzman College of Computing\, 51 Vassar Street (Building 45)\, Cambridge\, 02139\, United States
END:VEVENT
END:VCALENDAR