BEGIN:VCALENDAR
VERSION:2.0
PRODID:-//National Institute of Building Sciences - ECPv6.15.20//NONSGML v1.0//EN
CALSCALE:GREGORIAN
METHOD:PUBLISH
X-WR-CALNAME:National Institute of Building Sciences
X-ORIGINAL-URL:https://nibs.org
X-WR-CALDESC:Events for National Institute of Building Sciences
REFRESH-INTERVAL;VALUE=DURATION:PT1H
X-Robots-Tag:noindex
X-PUBLISHED-TTL:PT1H
BEGIN:VTIMEZONE
TZID:UTC
BEGIN:STANDARD
TZOFFSETFROM:+0000
TZOFFSETTO:+0000
TZNAME:UTC
DTSTART:20230101T000000
END:STANDARD
END:VTIMEZONE
BEGIN:VEVENT
DTSTART;TZID=UTC:20240326T130000
DTEND;TZID=UTC:20240326T140000
DTSTAMP:20260419T103235
CREATED:20250428T110018Z
LAST-MODIFIED:20250428T110018Z
UID:14674-1711458000-1711461600@nibs.org
SUMMARY:Off-site Construction: Delivering Better Buildings
DESCRIPTION:There is no shortage of excuses not to build differently\, but the current challenges we face as a building industry and society are becoming too tenuous to continue the status quo. From workforce availability and jobsite safety to housing affordability and availability\, building quality and sustainability – we need solutions. \nWith national housing costs rising 52 percent from 2017 to 2022\, off-site construction offers an affordable solution\, capable of curbing construction timelines and reducing costs. Off-site construction can deliver projects 20 percent to 50 percent faster than traditional methods\, which can provide cost savings of up to 20 percent. However\, off-site construction makes up only a small proportion of construction activity. \nThis session will explore some of the challenges to the widespread deployment of off-site construction and how off-site construction leaders are working to overcome these challenges. Specific attention will be paid to the critical importance of aligning design\, manufacture\, finance and regulations to deliver successful projects. From barriers and best practices to finance and regulation\, this session will discuss why off-site construction is a solution to drive innovation and sustainability. \n\nLearning Objectives\n\n\n\n\nInform participants on the current challenges across the building and construction sector and explore solutions provided by off-site construction.\nDevelop understanding of off-site construction methods and current innovative trends across the industry.\nExplore the current state of off-site construction regulation and provide an examination of the regulatory landscape through available resources.\nEstablish knowledge of the sustainability and affordability features of off-site construction and opportunities to integrate building innovation through relevant success cases.
URL:https://nibs.org/event/off-site-construction-delivering-better-buildings/
CATEGORIES:Building Innovation Webinar Series
LOCATION:
END:VEVENT
END:VCALENDAR