BEGIN:VCALENDAR
VERSION:2.0
PRODID:-//National Institute of Building Sciences - ECPv6.15.20//NONSGML v1.0//EN
CALSCALE:GREGORIAN
METHOD:PUBLISH
X-WR-CALNAME:National Institute of Building Sciences
X-ORIGINAL-URL:https://nibs.org
X-WR-CALDESC:Events for National Institute of Building Sciences
REFRESH-INTERVAL;VALUE=DURATION:PT1H
X-Robots-Tag:noindex
X-PUBLISHED-TTL:PT1H
BEGIN:VTIMEZONE
TZID:America/Los_Angeles
BEGIN:DAYLIGHT
TZOFFSETFROM:-0800
TZOFFSETTO:-0700
TZNAME:PDT
DTSTART:20240310T100000
END:DAYLIGHT
BEGIN:STANDARD
TZOFFSETFROM:-0700
TZOFFSETTO:-0800
TZNAME:PST
DTSTART:20241103T090000
END:STANDARD
BEGIN:DAYLIGHT
TZOFFSETFROM:-0800
TZOFFSETTO:-0700
TZNAME:PDT
DTSTART:20250309T100000
END:DAYLIGHT
BEGIN:STANDARD
TZOFFSETFROM:-0700
TZOFFSETTO:-0800
TZNAME:PST
DTSTART:20251102T090000
END:STANDARD
BEGIN:DAYLIGHT
TZOFFSETFROM:-0800
TZOFFSETTO:-0700
TZNAME:PDT
DTSTART:20260308T100000
END:DAYLIGHT
BEGIN:STANDARD
TZOFFSETFROM:-0700
TZOFFSETTO:-0800
TZNAME:PST
DTSTART:20261101T090000
END:STANDARD
END:VTIMEZONE
BEGIN:VEVENT
DTSTART;TZID=America/Los_Angeles:20250620T100000
DTEND;TZID=America/Los_Angeles:20250620T120000
DTSTAMP:20260419T084435
CREATED:20250604T183954Z
LAST-MODIFIED:20250604T183954Z
UID:18586-1750413600-1750420800@nibs.org
SUMMARY:SBSE Quarterly Seminar Series - Summer Solstice 2025
DESCRIPTION:The Society of Building Science Educators is thrilled to invite you to our second quarterly seminar series! The featured panel of experts— John Straube and Keith Simon—will share their insights on building enclosures in building science education. Join the discussion on Friday\, June 20\, 2025\, at 10:00 AM Pacific (PDT) to celebrate the solstice and gain valuable knowledge from our distinguished guests. We can’t wait to connect with you.
URL:https://nibs.org/event/sbse-quarterly-seminar-series-summer-solstice-2025/
LOCATION:Virtual Event
END:VEVENT
END:VCALENDAR