BEGIN:VCALENDAR
VERSION:2.0
PRODID:-//National Institute of Building Sciences - ECPv6.15.20//NONSGML v1.0//EN
CALSCALE:GREGORIAN
METHOD:PUBLISH
X-ORIGINAL-URL:https://nibs.org
X-WR-CALDESC:Events for National Institute of Building Sciences
REFRESH-INTERVAL;VALUE=DURATION:PT1H
X-Robots-Tag:noindex
X-PUBLISHED-TTL:PT1H
BEGIN:VTIMEZONE
TZID:UTC
BEGIN:STANDARD
TZOFFSETFROM:+0000
TZOFFSETTO:+0000
TZNAME:UTC
DTSTART:20220101T000000
END:STANDARD
END:VTIMEZONE
BEGIN:VEVENT
DTSTART;TZID=UTC:20231212T140000
DTEND;TZID=UTC:20231212T150000
DTSTAMP:20260421T175627
CREATED:20250428T103057Z
LAST-MODIFIED:20250428T103057Z
UID:10000024-1702389600-1702393200@nibs.org
SUMMARY:Innovations and Operations: Developments in Sustainable Precast Concrete
DESCRIPTION:Precast concrete is a durable and resilient material that provides many benefits to efficient\, sustainable structures in the long term. While precast concrete has an upfront CO2 impact\, the industry is working to reduce GHG emissions and increase the efficiency of its products. \nThis presentation will discuss technical innovations to reduce the carbon footprint of precast concrete and examine current process improvements that are pushing the industry forward to a more sustainable future. \n\nLearning Objectives\n\n\n\n\nAttendees will learn about attributes\, benefits\, and considerations of using precast concrete in the holistic design of sustainable structures.\nParticipants will understand established and developing technologies aimed at reducing the environmental impact of precast concrete.\nAttendees will discover process improvements\, production efficiencies\, and other producer efforts that are creating GHG reductions today.\nWe will demonstrate ways that precast concrete producers are lowering the environmental impact of their products\, and how projects are achieving sustainability goals with concrete.
URL:https://nibs.org/event/innovations-and-operations-developments-in-sustainable-precast-concrete/
LOCATION:
CATEGORIES:Building Innovation Webinar Series
END:VEVENT
END:VCALENDAR