BEGIN:VCALENDAR
VERSION:2.0
PRODID:-//National Institute of Building Sciences - ECPv6.15.20//NONSGML v1.0//EN
CALSCALE:GREGORIAN
METHOD:PUBLISH
X-WR-CALNAME:National Institute of Building Sciences
X-ORIGINAL-URL:https://nibs.org
X-WR-CALDESC:Events for National Institute of Building Sciences
REFRESH-INTERVAL;VALUE=DURATION:PT1H
X-Robots-Tag:noindex
X-PUBLISHED-TTL:PT1H
BEGIN:VTIMEZONE
TZID:UTC
BEGIN:STANDARD
TZOFFSETFROM:+0000
TZOFFSETTO:+0000
TZNAME:UTC
DTSTART:20240101T000000
END:STANDARD
END:VTIMEZONE
BEGIN:VEVENT
DTSTART;TZID=UTC:20250511T130000
DTEND;TZID=UTC:20250511T140000
DTSTAMP:20260420T151953
CREATED:20250428T132325Z
LAST-MODIFIED:20250428T134212Z
UID:10000065-1746968400-1746972000@nibs.org
SUMMARY:Enhancing Sustainability and Energy Conservation Through Digital Twin Technology
DESCRIPTION:In the evolving landscape of building management\, transitioning from traditional systems of record to systems of insight has become crucial for sustained operational effectiveness and resilience. \nThis session explores the innovative application of digital twin technology from the owner’s and operator’s perspectives\, underscoring its pivotal role in advancing sustainability and energy conservation within building operations. \nDigital twins serve as a sophisticated tool that integrates four main data streams — hard assets\, asset cutsheets\, dynamic operational data\, and institutional knowledge — into a unified middleware dashboard. Digital twins are 3D representations of the real-world asset and are the pathway for continued sustainability. \nThis integration not only simplifies the management of building data but also enhances the decision-making processes\, allowing for more accurate virtual inspections and proactive maintenance strategies. By replicating physical assets in a virtual environment\, digital twins enable operators to perform detailed analyses and simulations\, which helps in pinpointing inefficiencies and predicting future performance under various scenarios. \nThis presentation will delve into the methodologies for transforming a building information model (BIM) into a navigable\, asset-level digital twin. It will outline the process of data aggregation\, labeling\, and algorithm application\, which are crucial for enhancing operational and energy efficiencies tailored to specific assets. The outcome is a streamlined\, intuitive interface that not only promotes sustainability but also supports the building’s long-term viability and compliance with evolving environmental standards. \n\nLearning Objectives\n\n\n\n\nUnderstand the Role of Digital Twin Technology: Gain insights into how digital twins transform traditional building management systems into advanced\, sustainable solutions by integrating hard assets\, dynamic operational data\, and institutional knowledge.\nExplore Data Integration Techniques: Learn the methodologies for converting Building Information Models (BIM) into digital twins\, focusing on data aggregation\, labeling\, and algorithm application for enhanced energy efficiency.\nEnhance Decision-Making Processes: Discover how digital twins improve decision-making through detailed analyses\, virtual inspections\, and predictive maintenance strategies\, ultimately contributing to energy conservation.\nOptimize Asset Performance and Energy Use: Learn how owners and operators can utilize digital twins to optimize asset performance\, reduce energy consumption\, and achieve long-term sustainability goals.
URL:https://nibs.org/event/enhancing-sustainability-and-energy-conservation-through-digital-twin-technology/
LOCATION:
CATEGORIES:Building Innovation Webinar Series
END:VEVENT
END:VCALENDAR