BEGIN:VCALENDAR
VERSION:2.0
PRODID:-//National Institute of Building Sciences - ECPv6.15.20//NONSGML v1.0//EN
CALSCALE:GREGORIAN
METHOD:PUBLISH
X-WR-CALNAME:National Institute of Building Sciences
X-ORIGINAL-URL:https://nibs.org
X-WR-CALDESC:Events for National Institute of Building Sciences
REFRESH-INTERVAL;VALUE=DURATION:PT1H
X-Robots-Tag:noindex
X-PUBLISHED-TTL:PT1H
BEGIN:VTIMEZONE
TZID:America/New_York
BEGIN:DAYLIGHT
TZOFFSETFROM:-0500
TZOFFSETTO:-0400
TZNAME:EDT
DTSTART:20240310T070000
END:DAYLIGHT
BEGIN:STANDARD
TZOFFSETFROM:-0400
TZOFFSETTO:-0500
TZNAME:EST
DTSTART:20241103T060000
END:STANDARD
BEGIN:DAYLIGHT
TZOFFSETFROM:-0500
TZOFFSETTO:-0400
TZNAME:EDT
DTSTART:20250309T070000
END:DAYLIGHT
BEGIN:STANDARD
TZOFFSETFROM:-0400
TZOFFSETTO:-0500
TZNAME:EST
DTSTART:20251102T060000
END:STANDARD
BEGIN:DAYLIGHT
TZOFFSETFROM:-0500
TZOFFSETTO:-0400
TZNAME:EDT
DTSTART:20260308T070000
END:DAYLIGHT
BEGIN:STANDARD
TZOFFSETFROM:-0400
TZOFFSETTO:-0500
TZNAME:EST
DTSTART:20261101T060000
END:STANDARD
END:VTIMEZONE
BEGIN:VEVENT
DTSTART;TZID=America/New_York:20250819T120000
DTEND;TZID=America/New_York:20250819T130000
DTSTAMP:20260420T093820
CREATED:20250714T163749Z
LAST-MODIFIED:20250819T194838Z
UID:10000117-1755604800-1755608400@nibs.org
SUMMARY:Data-Driven Success: How Being a Data-Centric Organization Maximizes the Value of Digital Technologies
DESCRIPTION:Is your organization getting the most out of the digital technologies it deploys and data generated on your projects? This session will share the latest findings of a study conducted by NIBS and Dodge Construction Network\, that examines how nearly 200 owners in the US construction industry are deploying digital technologies on their projects and the value generated by their use. The session will also look at the degree to which these owners have transformed their policies and practices to make their organization more data-centric\, which allows them to significantly increase the project benefits that these technologies provide and their ability to leverage project data throughout their organization\, from capital planning to design and construction to asset management and operations. \nFor owners\, this session provides a roadmap for getting more out of their digital technology investments and the kinds of data-centric policies and practices they need to consider. For architects\, engineers and contractors\, the session also offers great examples of how to transform their own organizations to become more data-centric\, but more importantly\, it reveals how to build a competitive advantage through a better understanding of their clients’ digital and data needs\, and how to stay relevant as the industry continues down the path of digital transformation. \nJoin Roger Grant\, VP of Building Technology with NIBS\, and Dr. Donna Laquidara-Carr\, Industry Insights Research Director at Dodge Construction Network\, as they discuss the top findings and recommendations from the study and what they mean to everyone engaged in planning\, design\, construction and operations of buildings and civil infrastructure in this digital age.
URL:https://nibs.org/event/data-driven-success-how-being-a-data-centric-organization-maximizes-the-value-of-digital-technologies/
LOCATION:Virtual Event
END:VEVENT
BEGIN:VEVENT
DTSTART;TZID=America/New_York:20250819T140000
DTEND;TZID=America/New_York:20250819T150000
DTSTAMP:20260420T093820
CREATED:20250811T182506Z
LAST-MODIFIED:20250811T182506Z
UID:10000124-1755612000-1755615600@nibs.org
SUMMARY:Adventures in Hygrothermal Modeling
DESCRIPTION:Hygrothermal modeling\, the analysis of heat and moisture transport through building enclosure assemblies\, reveals many of the climate-specific building science secrets that are key to durable design of walls and roofs and other assemblies. Debunking rules of thumb and avoiding answers of “it depends” – data and analysis can reveal exactly how many inches of a certain insulation are required\, exactly what perm-rating will optimize an assembly\, and what kind of havoc a reservoir cladding system can create. Case studies will be shown that demonstrate when perm rating matters and when it does not\, the impact of roof membrane color and the risks of “cool roofing\,” and when HT (high-temp) rated membranes are actually required. This presentation’s ulterior motive is to convince the audience that every architecture firm should be doing in-house hygrothermal modeling as an integral component of climate-specific\, durable\, and resilient design.
URL:https://nibs.org/event/adventures-in-hygrothermal-modeling/
LOCATION:Virtual Event
END:VEVENT
END:VCALENDAR