BEGIN:VCALENDAR
VERSION:2.0
PRODID:-//National Institute of Building Sciences - ECPv6.15.20//NONSGML v1.0//EN
CALSCALE:GREGORIAN
METHOD:PUBLISH
X-WR-CALNAME:National Institute of Building Sciences
X-ORIGINAL-URL:https://nibs.org
X-WR-CALDESC:Events for National Institute of Building Sciences
REFRESH-INTERVAL;VALUE=DURATION:PT1H
X-Robots-Tag:noindex
X-PUBLISHED-TTL:PT1H
BEGIN:VTIMEZONE
TZID:America/New_York
BEGIN:DAYLIGHT
TZOFFSETFROM:-0500
TZOFFSETTO:-0400
TZNAME:EDT
DTSTART:20240310T070000
END:DAYLIGHT
BEGIN:STANDARD
TZOFFSETFROM:-0400
TZOFFSETTO:-0500
TZNAME:EST
DTSTART:20241103T060000
END:STANDARD
BEGIN:DAYLIGHT
TZOFFSETFROM:-0500
TZOFFSETTO:-0400
TZNAME:EDT
DTSTART:20250309T070000
END:DAYLIGHT
BEGIN:STANDARD
TZOFFSETFROM:-0400
TZOFFSETTO:-0500
TZNAME:EST
DTSTART:20251102T060000
END:STANDARD
BEGIN:DAYLIGHT
TZOFFSETFROM:-0500
TZOFFSETTO:-0400
TZNAME:EDT
DTSTART:20260308T070000
END:DAYLIGHT
BEGIN:STANDARD
TZOFFSETFROM:-0400
TZOFFSETTO:-0500
TZNAME:EST
DTSTART:20261101T060000
END:STANDARD
END:VTIMEZONE
BEGIN:VEVENT
DTSTART;TZID=America/New_York:20250916T130000
DTEND;TZID=America/New_York:20250916T140000
DTSTAMP:20260420T105851
CREATED:20250801T144305Z
LAST-MODIFIED:20251001T180009Z
UID:10000120-1758027600-1758031200@nibs.org
SUMMARY:Understanding the FHWA's "Advancing BIM for Infrastructure National Strategic Roadmap"
DESCRIPTION:The Federal Highway Administration has a vision of how they would like all US DOTs to conduct their Digital Project Delivery activities by 2031. This session will delve into the objectives of this vision\, the driving motivations behind it\, the timeline and milestones\, and the support available to ensure success. Additionally\, the session will address the evolving roles and responsibilities of DOT consultants\, contractors\, and technology partners in relation to the Advancing BIM for Infrastructure National Strategic Roadmap. \nLearning Objectives \n\nUnderstand the FHWA’s suggested ten-year timeline for moving to a BIM based project delivery methodology\nUnderstand the benefits of U.S. transportation agencies moving to a BIM based project delivery methodology\nUnderstand the challenges for U.S. transportation agencies to move to a BIM based project delivery methodology\nUnderstand the funding sources available to assist U.S. transportation agencies moving to a BIM based project delivery methodology.
URL:https://nibs.org/event/understanding-the-fhwas-advancing-bim-for-infrastructure-national-strategic-roadmap/
LOCATION:Virtual Event
CATEGORIES:Building Innovation Webinar Series
END:VEVENT
END:VCALENDAR