BEGIN:VCALENDAR
VERSION:2.0
PRODID:-//National Institute of Building Sciences - ECPv6.15.20//NONSGML v1.0//EN
CALSCALE:GREGORIAN
METHOD:PUBLISH
X-WR-CALNAME:National Institute of Building Sciences
X-ORIGINAL-URL:https://nibs.org
X-WR-CALDESC:Events for National Institute of Building Sciences
REFRESH-INTERVAL;VALUE=DURATION:PT1H
X-Robots-Tag:noindex
X-PUBLISHED-TTL:PT1H
BEGIN:VTIMEZONE
TZID:America/Chicago
BEGIN:DAYLIGHT
TZOFFSETFROM:-0600
TZOFFSETTO:-0500
TZNAME:CDT
DTSTART:20250309T080000
END:DAYLIGHT
BEGIN:STANDARD
TZOFFSETFROM:-0500
TZOFFSETTO:-0600
TZNAME:CST
DTSTART:20251102T070000
END:STANDARD
BEGIN:DAYLIGHT
TZOFFSETFROM:-0600
TZOFFSETTO:-0500
TZNAME:CDT
DTSTART:20260308T080000
END:DAYLIGHT
BEGIN:STANDARD
TZOFFSETFROM:-0500
TZOFFSETTO:-0600
TZNAME:CST
DTSTART:20261101T070000
END:STANDARD
BEGIN:DAYLIGHT
TZOFFSETFROM:-0600
TZOFFSETTO:-0500
TZNAME:CDT
DTSTART:20270314T080000
END:DAYLIGHT
BEGIN:STANDARD
TZOFFSETFROM:-0500
TZOFFSETTO:-0600
TZNAME:CST
DTSTART:20271107T070000
END:STANDARD
END:VTIMEZONE
BEGIN:VTIMEZONE
TZID:America/New_York
BEGIN:DAYLIGHT
TZOFFSETFROM:-0500
TZOFFSETTO:-0400
TZNAME:EDT
DTSTART:20250309T070000
END:DAYLIGHT
BEGIN:STANDARD
TZOFFSETFROM:-0400
TZOFFSETTO:-0500
TZNAME:EST
DTSTART:20251102T060000
END:STANDARD
BEGIN:DAYLIGHT
TZOFFSETFROM:-0500
TZOFFSETTO:-0400
TZNAME:EDT
DTSTART:20260308T070000
END:DAYLIGHT
BEGIN:STANDARD
TZOFFSETFROM:-0400
TZOFFSETTO:-0500
TZNAME:EST
DTSTART:20261101T060000
END:STANDARD
BEGIN:DAYLIGHT
TZOFFSETFROM:-0500
TZOFFSETTO:-0400
TZNAME:EDT
DTSTART:20270314T070000
END:DAYLIGHT
BEGIN:STANDARD
TZOFFSETFROM:-0400
TZOFFSETTO:-0500
TZNAME:EST
DTSTART:20271107T060000
END:STANDARD
END:VTIMEZONE
BEGIN:VEVENT
DTSTART;TZID=America/Chicago:20260421T080000
DTEND;TZID=America/Chicago:20260424T113000
DTSTAMP:20260423T011935
CREATED:20250807T163605Z
LAST-MODIFIED:20260312T170114Z
UID:10000122-1776758400-1777030200@nibs.org
SUMMARY:CxEnergy2026
DESCRIPTION:The #1 Conference & Expo in Commissioning\, Energy Management\, & Building Technology. \nUse code MEDIA10 for 10% off registration. Learn More here: www.CxEnergy.com.
URL:https://nibs.org/event/cxenergy2026/
LOCATION:Sheraton Grand Chicago Riverwalk Hotel\, 301 E North Water Street\, Chicago\, IL\, 60611\, United States
END:VEVENT
BEGIN:VEVENT
DTSTART;TZID=America/New_York:20260423T080000
DTEND;TZID=America/New_York:20260423T170000
DTSTAMP:20260423T011935
CREATED:20260331T143659Z
LAST-MODIFIED:20260331T143659Z
UID:10000169-1776931200-1776963600@nibs.org
SUMMARY:Building Enclosure Council Annual Symposium
DESCRIPTION:Join us for a full day of education\, sharing ideas\, making connections\, and creating discussions around building enclosures.\n\n\n\nThe Building Enclosure Council of Iowa is proud to present the 2026 BEC-Iowa Symposium. The Symposium features a distinguished panel of speakers who will discuss building science and enclosures. This will be an in-person event only\, and attendees can enter a raffle to win prizes (winners will be announced at the end of the symposium). \nThe event includes breakfast\, snacks\, lunch\, and refreshments. Alcoholic beverages will be served\, and drink tickets can be obtained by visiting sponsor booths. \n\nAGENDA\n8:00am: Check-in\, Sponsor Displays\n8:50am: Opening Comments\n9:00am: Presentation 1 – John Posenecker\n10:00am: Morning Break\, Sponsor Displays & Announcements\n10:40am: Presentation 2 – Scott and Molly Cutler\n11:40pm: Lunch Break\, Sponsor Displays & Announcements\n1:00pm: Presentation 3 – Mark Parlee\n2:00pm: Afternoon Break\, Sponsor Displays & Announcements\n2:40pm: Presentation 4 – Steven Baczek\n3:45pm: Closing Remarks & Raffle Giveways\n4:00pm: Roundtable Discussion\n5:00pm: Open Networking and Sponsor Booth Teardown
URL:https://nibs.org/event/building-enclosure-council-annual-symposium/
LOCATION:The Des Moines Heritage Center\, 120 E. 5th Street\, Des Moines\, IA\, 50309\, United States
END:VEVENT
BEGIN:VEVENT
DTSTART;TZID=America/New_York:20260423T090000
DTEND;TZID=America/New_York:20260423T170000
DTSTAMP:20260423T011935
CREATED:20260326T131948Z
LAST-MODIFIED:20260326T131948Z
UID:10000168-1776934800-1776963600@nibs.org
SUMMARY:The US Construction & Manufacturing Summit
DESCRIPTION:The U.S. Construction & Manufacturing Summit 2025 will convene policymakers\, business leaders\, infrastructure developers\, and innovators to address the future of American industrial competitiveness. From energy and permitting to materials\, digital technologies\, and workforce development\, the event will spotlight how resilient construction and advanced manufacturing are central to rebuilding American industry. \nTaking place under a new administration prioritising energy independence\, supply chain security\, and permitting reform\, the summit offers a timely platform for public-private collaboration to accelerate U.S. infrastructure and manufacturing leadership. \nThis is a free event to attend.  Register here to attend:  https://registration.motisco.com/the-u-s-construction-and-manufacturing-summit
URL:https://nibs.org/event/the-us-construction-manufacturing-summit/
LOCATION:The American Institute of Architects\, 1735 New York Ave NW\, Washington\, DC\, 20006\, United States
END:VEVENT
END:VCALENDAR