BEGIN:VCALENDAR
VERSION:2.0
PRODID:-//National Institute of Building Sciences - ECPv6.15.20//NONSGML v1.0//EN
CALSCALE:GREGORIAN
METHOD:PUBLISH
X-ORIGINAL-URL:https://nibs.org
X-WR-CALDESC:Events for National Institute of Building Sciences
REFRESH-INTERVAL;VALUE=DURATION:PT1H
X-Robots-Tag:noindex
X-PUBLISHED-TTL:PT1H
BEGIN:VTIMEZONE
TZID:UTC
BEGIN:STANDARD
TZOFFSETFROM:+0000
TZOFFSETTO:+0000
TZNAME:UTC
DTSTART:20190101T000000
END:STANDARD
END:VTIMEZONE
BEGIN:VEVENT
DTSTART;TZID=UTC:20200923T133000
DTEND;TZID=UTC:20200923T150000
DTSTAMP:20260422T205202
CREATED:20250428T105926Z
LAST-MODIFIED:20250602T075944Z
UID:10000032-1600867800-1600873200@nibs.org
SUMMARY:WEB Virtual Series: Advancing Women to Achieve Parity in Leadership
DESCRIPTION:Women in the built environment must break through what keeps them from advancing. Equality within executive leadership and management is where women across our industry should be headed. For example\, nearly half of the engineering classes are women and a larger portion of entry-level spots are being filled by women. The time to work on advancement issues is now. \nYou’re invited to this limited-invitation virtual event with keynote speakers Sandra Benson\, WW Head of Engineering\, Construction and Real Estate for Amazon Web Services and Nancy Novak\, CIO of Compass Datacenters. These monthly virtual meetings will lead up to the second annual Women Executives in Building Summit on May 5-6\, in Nashville\, TN. \nWho Should Attend: All female C-Suite executives in the building industry\, from association executives to women–owned and operated trade businesses. \nEvent format: This month we will have Nancy Novak\, Chief Innovation Officer\, Compass Datacenters and Sandra Benson\, WW Head of Engineering\, Construction and Real Estate for Amazon Web Services as the keynote speakers. They will share statistics and their message on how we can move the needle and continue to place more cracks that glass ceiling. This is also an opportunity for conversation with other C-Suite female executives in a safe\, thought-provoking environment.
URL:https://nibs.org/event/web-virtual-series-advancing-women-to-achieve-parity-in-leadership/
CATEGORIES:Women Executives in Building
LOCATION:
END:VEVENT
END:VCALENDAR