BEGIN:VCALENDAR
VERSION:2.0
PRODID:-//National Institute of Building Sciences - ECPv6.15.20//NONSGML v1.0//EN
CALSCALE:GREGORIAN
METHOD:PUBLISH
X-WR-CALNAME:National Institute of Building Sciences
X-ORIGINAL-URL:https://nibs.org
X-WR-CALDESC:Events for National Institute of Building Sciences
REFRESH-INTERVAL;VALUE=DURATION:PT1H
X-Robots-Tag:noindex
X-PUBLISHED-TTL:PT1H
BEGIN:VTIMEZONE
TZID:UTC
BEGIN:STANDARD
TZOFFSETFROM:+0000
TZOFFSETTO:+0000
TZNAME:UTC
DTSTART:20220101T000000
END:STANDARD
END:VTIMEZONE
BEGIN:VEVENT
DTSTART;TZID=UTC:20230524T100000
DTEND;TZID=UTC:20230524T173000
DTSTAMP:20260420T220905
CREATED:20250428T112400Z
LAST-MODIFIED:20250428T112857Z
UID:10000045-1684922400-1684949400@nibs.org
SUMMARY:Women Executives in Building Symposium
DESCRIPTION:Women in the built environment are daring the rest of us to confront stereotypes that lead to harmful hiring practices and personnel policies that reinforce barriers of the past and continue to hold women back. These groundbreakers defy the odds in the male-dominated industries that support the built environment\, and they must be aligned to increase awareness and diversity\, particularly for young women who may be considering careers in the AECO industry. \nIn this edition of the Women’s Leadership Forum\, the National Institute of Building Sciences will convene female leaders from all sectors of the built environment to a one-day event. Here\, we will share successes\, challenges\, network\, and equip females in the built environment with actionable strategies to overcome the hurdles women often face in the workplace\, and specifically in the building industry. NIBS will provide the platform. \nWomen in the industry: Come ready to join forces and empower each other\, drive results\, and inspire change focused on diversifying the workforce. \nThis event will be filled with immersive learning for female leaders in the built environment\, networking opportunities\, facilitated panel discussions\, and keynotes. \nPresentations\nDelta Controls Intro\nGreen Building Initiative Intro\nSocial Media and Your Personal Brand\nResiliency A Business Imperative with Profitable Benefits\nMy Path to Success & the Importance of Technology to the Building Lifecycle\nSocial Sciences\, Natural Hazards Mitigation\, and the Built Environment
URL:https://nibs.org/event/women-executives-in-building-symposium/
CATEGORIES:Women Executives in Building
LOCATION:
END:VEVENT
END:VCALENDAR