BEGIN:VCALENDAR
VERSION:2.0
PRODID:-//National Institute of Building Sciences - ECPv6.15.20//NONSGML v1.0//EN
CALSCALE:GREGORIAN
METHOD:PUBLISH
X-WR-CALNAME:National Institute of Building Sciences
X-ORIGINAL-URL:https://nibs.org
X-WR-CALDESC:Events for National Institute of Building Sciences
REFRESH-INTERVAL;VALUE=DURATION:PT1H
X-Robots-Tag:noindex
X-PUBLISHED-TTL:PT1H
BEGIN:VTIMEZONE
TZID:UTC
BEGIN:STANDARD
TZOFFSETFROM:+0000
TZOFFSETTO:+0000
TZNAME:UTC
DTSTART:20240101T000000
END:STANDARD
END:VTIMEZONE
BEGIN:VTIMEZONE
TZID:America/New_York
BEGIN:DAYLIGHT
TZOFFSETFROM:-0500
TZOFFSETTO:-0400
TZNAME:EDT
DTSTART:20240310T070000
END:DAYLIGHT
BEGIN:STANDARD
TZOFFSETFROM:-0400
TZOFFSETTO:-0500
TZNAME:EST
DTSTART:20241103T060000
END:STANDARD
BEGIN:DAYLIGHT
TZOFFSETFROM:-0500
TZOFFSETTO:-0400
TZNAME:EDT
DTSTART:20250309T070000
END:DAYLIGHT
BEGIN:STANDARD
TZOFFSETFROM:-0400
TZOFFSETTO:-0500
TZNAME:EST
DTSTART:20251102T060000
END:STANDARD
BEGIN:DAYLIGHT
TZOFFSETFROM:-0500
TZOFFSETTO:-0400
TZNAME:EDT
DTSTART:20260308T070000
END:DAYLIGHT
BEGIN:STANDARD
TZOFFSETFROM:-0400
TZOFFSETTO:-0500
TZNAME:EST
DTSTART:20261101T060000
END:STANDARD
END:VTIMEZONE
BEGIN:VEVENT
DTSTART;TZID=UTC:20250508T010000
DTEND;TZID=UTC:20250508T140000
DTSTAMP:20260420T140101
CREATED:20250428T115551Z
LAST-MODIFIED:20250602T072345Z
UID:10000053-1746666000-1746712800@nibs.org
SUMMARY:Addressing Workforce Shortages: How Can the Construction Industry Attract More Workers?
DESCRIPTION:Only 7% of U.S. students and jobseekers actively seek work in the construction industry\, according to a new study conducted by Dodge Construction Network. \nDespite this\, the study also reveals there are several opportunities to increase that share. Join Donna Laquidara-Carr\, Industry Insights Research Director with Dodge\, as she discusses key findings from the study of over 250 people working in construction and more than 1\,100 students\, jobseekers\, and people employed in other industries in the U.S. \nThe study provides actionable information about how to attract more workers to the industry\, including: \n\nWhat those working in construction find most satisfying in their careers\nWhat the next generation of workers are looking for and how the industry can make itself more appealing to them\nWhat keeps the largest share of people from considering work in construction (and it probably isn’t what you think)\nHow the construction industry needs to communicate with the next generation of workers
URL:https://nibs.org/event/addressing-workforce-shortages-how-can-the-construction-industry-attract-more-workers/
LOCATION:Virtual Event
CATEGORIES:May 8: Addressing Workforce Shortages: How Can the Construction Industry Attract More Workers?
END:VEVENT
BEGIN:VEVENT
DTSTART;TZID=UTC:20250508T130000
DTEND;TZID=UTC:20250508T140000
DTSTAMP:20260420T140101
CREATED:20250428T134632Z
LAST-MODIFIED:20250428T134632Z
UID:10000071-1746709200-1746712800@nibs.org
SUMMARY:Addressing Workforce Shortages: How Can the Construction Industry Attract More Workers?
DESCRIPTION:Only 7% of U.S. students and jobseekers actively seek work in the construction industry\, according to a new study conducted by Dodge Construction Network. \nDespite this\, the study also reveals there are several opportunities to increase that share. Join Donna Laquidara-Carr\, Industry Insights Research Director with Dodge\, as she discusses key findings from the study of over 250 people working in construction and more than 1\,100 students\, jobseekers\, and people employed in other industries in the U.S. \nThe study provides actionable information about how to attract more workers to the industry\, including: \n\nWhat those working in construction find most satisfying in their careers\nWhat the next generation of workers are looking for and how the industry can make itself more appealing to them\nWhat keeps the largest share of people from considering work in construction (and it probably isn’t what you think)\nHow the construction industry needs to communicate with the next generation of workers
URL:https://nibs.org/event/addressing-workforce-shortages-how-can-the-construction-industry-attract-more-workers-2/
LOCATION:
CATEGORIES:Building Innovation Webinar Series
END:VEVENT
BEGIN:VEVENT
DTSTART;TZID=UTC:20250511T130000
DTEND;TZID=UTC:20250511T140000
DTSTAMP:20260420T140101
CREATED:20250428T132325Z
LAST-MODIFIED:20250428T134212Z
UID:10000065-1746968400-1746972000@nibs.org
SUMMARY:Enhancing Sustainability and Energy Conservation Through Digital Twin Technology
DESCRIPTION:In the evolving landscape of building management\, transitioning from traditional systems of record to systems of insight has become crucial for sustained operational effectiveness and resilience. \nThis session explores the innovative application of digital twin technology from the owner’s and operator’s perspectives\, underscoring its pivotal role in advancing sustainability and energy conservation within building operations. \nDigital twins serve as a sophisticated tool that integrates four main data streams — hard assets\, asset cutsheets\, dynamic operational data\, and institutional knowledge — into a unified middleware dashboard. Digital twins are 3D representations of the real-world asset and are the pathway for continued sustainability. \nThis integration not only simplifies the management of building data but also enhances the decision-making processes\, allowing for more accurate virtual inspections and proactive maintenance strategies. By replicating physical assets in a virtual environment\, digital twins enable operators to perform detailed analyses and simulations\, which helps in pinpointing inefficiencies and predicting future performance under various scenarios. \nThis presentation will delve into the methodologies for transforming a building information model (BIM) into a navigable\, asset-level digital twin. It will outline the process of data aggregation\, labeling\, and algorithm application\, which are crucial for enhancing operational and energy efficiencies tailored to specific assets. The outcome is a streamlined\, intuitive interface that not only promotes sustainability but also supports the building’s long-term viability and compliance with evolving environmental standards. \n\nLearning Objectives\n\n\n\n\nUnderstand the Role of Digital Twin Technology: Gain insights into how digital twins transform traditional building management systems into advanced\, sustainable solutions by integrating hard assets\, dynamic operational data\, and institutional knowledge.\nExplore Data Integration Techniques: Learn the methodologies for converting Building Information Models (BIM) into digital twins\, focusing on data aggregation\, labeling\, and algorithm application for enhanced energy efficiency.\nEnhance Decision-Making Processes: Discover how digital twins improve decision-making through detailed analyses\, virtual inspections\, and predictive maintenance strategies\, ultimately contributing to energy conservation.\nOptimize Asset Performance and Energy Use: Learn how owners and operators can utilize digital twins to optimize asset performance\, reduce energy consumption\, and achieve long-term sustainability goals.
URL:https://nibs.org/event/enhancing-sustainability-and-energy-conservation-through-digital-twin-technology/
LOCATION:
CATEGORIES:Building Innovation Webinar Series
END:VEVENT
BEGIN:VEVENT
DTSTART;TZID=UTC:20250513T130000
DTEND;TZID=UTC:20250513T135500
DTSTAMP:20260420T140101
CREATED:20250428T134355Z
LAST-MODIFIED:20250611T161127Z
UID:10000099-1747141200-1747144500@nibs.org
SUMMARY:Optimizing Asset Definition and Structure for Enabling Digital Twins
DESCRIPTION:This session will explore the importance of well-defined Asset Registries and precise Asset Definitions in the development and implementation of digital twins. It will introduce new concepts\, methodologies\, and standards for structuring and managing asset information to support the integration of enterprise systems. \nBy enhancing these definitions and registries\, organizations can optimize asset data usage\, align with ISO 55000 principles\, and ultimately improve overall asset management and performance. \n\nLearning Objectives\n\n\n\n\nUnderstand the critical role of Asset Registries and Asset Definitions in enabling digital twins.\nLearn new methodologies and standards for structuring and managing asset information.\nExplore how to integrate enterprise systems to support scalable digital twin solutions.\nDiscover ways to leverage digital twins to enhance asset management and align with ISO 55000 principles.
URL:https://nibs.org/event/optimizing-asset-definition-and-structure-for-enabling-digital-twins-2/
LOCATION:Virtual Event
CATEGORIES:Building Innovation Webinar Series
END:VEVENT
BEGIN:VEVENT
DTSTART;TZID=UTC:20250519T080000
DTEND;TZID=UTC:20250521T170000
DTSTAMP:20260420T140101
CREATED:20250428T120738Z
LAST-MODIFIED:20260320T180044Z
UID:10000057-1747641600-1747846800@nibs.org
SUMMARY:Building Innovation 2025
DESCRIPTION:Building Innovation attendees come to explore challenges\, possibilities\, the latest tools\, groundbreaking strategies\, and more.
URL:https://nibs.org/event/building-innovation-2025/
LOCATION:
CATEGORIES:May 19 - May 21: Building Innovation 2025
END:VEVENT
BEGIN:VEVENT
DTSTART;TZID=America/New_York:20250528T120000
DTEND;TZID=America/New_York:20250528T130000
DTSTAMP:20260420T140101
CREATED:20250515T181450Z
LAST-MODIFIED:20250611T132247Z
UID:10000094-1748433600-1748437200@nibs.org
SUMMARY:Hindsight 20/20 - 20 Years of Leak Detection
DESCRIPTION:As architects and planners seek to maximize the use of all available space\, the next generation of low-slope roofs are not only waterproof coverings\, but platforms for assets such as solar panels\, green roofs\, water storage\, and amenity spaces. With so much value tied up in our roofs\, their resilience is more important than ever. This resilience is measured not in the immediate ability of the roof to withstand the elements\, but in its performance over years and decades. As owners and property managers come and go\, long-term roof maintenance can become a forgotten issue and defects that have been present since construction can lead to water intrusion that degrades the roof and greatly reduces its lifespan. In response\, automated leak detection systems have emerged as a technology adding value for both quality assurance during the construction process\, and as an early warning system alerting building owners to developing issues within their roof. Used properly\, these systems extend the lifespan of the roof which in turn minimizes disruption to the assets on or below the roof\, as well as increasing the quality of life of occupants using the building. \nAutomated leak detection systems continuously monitor the roof membrane environment\, transmitting data which is used to provide a report on the health of the waterproof membrane. Stakeholders gain access to critical information as the roof system is completed – identifying damage caused during construction and verifying repairs prior to commissioning the building. During the operational life of the structure\, automated leak detection systems employ sophisticated algorithms\, enabling predictive leak detection\, location\, and assistance with preventive maintenance strategies – significantly reducing the cost of repairs. \nThis presentation explores the utilization of automated leak detection systems in low slope roofing\, with a particular focus on Vancouver\, BC lower mainland area. Drawing on experience installing and operating leak detections systems across North America\, we highlight several areas in which construction practices inevitably leave defects in the waterproof membrane. Our case studies range from the very common occurrences of construction material being accidentally embedded in the layers of the roof\, to chemical burns from adhesives\, and risks unique to green-roof infrastructure. In explaining how these defects allow moisture to ingress into the roof environment\, we will elaborate on what kind of issues can occur\, with reference to real-world instances where substantial maintenance was required just months into the operational life of the roof. Finally\, we demonstrate how automated roof leak detection can be used to mitigate the risk of membrane defects going unnoticed by actively monitoring the roof and guiding repairs when necessary. Case studies of both conventional and inverted roof assemblies will demonstrate how automated leak detection systems have protected the inherent value of the roof\, and added value of their own over the life of the structure. \nSpeakers\nJASON TEETAERT\nCO-FOUNDER AND PRESIDENT\, SMT RESEARCH\nJason Teetaert is co-founder and president of SMT Research\, a structure monitoring company based in Vancouver BC. Teetaert graduated from the University of Manitoba with a Bachelor of Science Degree in Electrical Engineering and has over 20 years experience in the construction industry; developing numerous turnkey solutions for building envelope monitoring with a strong focus on moisture. He holds patents in the areas of moisture detection\, and patents pending in roof monitoring and low powered hybrid wireless/wired networks. Teetaert leads the design of moisture detection systems in residential\, educational\, and institutional projects related to sustainable buildings and investigations. \nCAITLIN HAY\, AA MACS\nTECHNICAL ENGAGEMENT MANAGER\, SMT RESEARCH\nCaitlin Hay is a dedicated Technical Engagement Manager at SMT – Structure Monitoring Technology\, a leading firm specializing in advanced solutions for leak detection and structural health monitoring for commercial\, research and mass timber buildings. At SMT\, Hay has played a pivotal role in shaping and executing strategic communication and education initiatives that aid in the company’s commitment to innovation and quality assurance in construction. As a speaker\, Hay offers valuable insights into building roof leak detection through data-driven storytelling. \nHay has leveraged her expertise to enhance sensor and leak detection technology awareness on a global scale. Her work involves creating impactful communication strategies that support the industry goal of advancing infrastructure quality assurance\, resilience and sustainability. \n\nLEARNING OBJECTIVES\n\n\n\n\nIdentify risks to the waterproof membrane during construction.\nPlan quality assurance for roof installations.\nAnalyse patterns in monitoring data.\nApply automated roof leak detection to long term maintenance planning.
URL:https://nibs.org/event/hindsight-20-20-20-years-of-leak-detection-2/
LOCATION:Virtual Event
CATEGORIES:BEST Webinar Series,External ORG Event,NIBS Location Event,Webinar
END:VEVENT
END:VCALENDAR