BEGIN:VCALENDAR
VERSION:2.0
PRODID:-//National Institute of Building Sciences - ECPv6.15.20//NONSGML v1.0//EN
CALSCALE:GREGORIAN
METHOD:PUBLISH
X-ORIGINAL-URL:https://nibs.org
X-WR-CALDESC:Events for National Institute of Building Sciences
REFRESH-INTERVAL;VALUE=DURATION:PT1H
X-Robots-Tag:noindex
X-PUBLISHED-TTL:PT1H
BEGIN:VTIMEZONE
TZID:America/New_York
BEGIN:DAYLIGHT
TZOFFSETFROM:-0500
TZOFFSETTO:-0400
TZNAME:EDT
DTSTART:20240310T070000
END:DAYLIGHT
BEGIN:STANDARD
TZOFFSETFROM:-0400
TZOFFSETTO:-0500
TZNAME:EST
DTSTART:20241103T060000
END:STANDARD
BEGIN:DAYLIGHT
TZOFFSETFROM:-0500
TZOFFSETTO:-0400
TZNAME:EDT
DTSTART:20250309T070000
END:DAYLIGHT
BEGIN:STANDARD
TZOFFSETFROM:-0400
TZOFFSETTO:-0500
TZNAME:EST
DTSTART:20251102T060000
END:STANDARD
BEGIN:DAYLIGHT
TZOFFSETFROM:-0500
TZOFFSETTO:-0400
TZNAME:EDT
DTSTART:20260308T070000
END:DAYLIGHT
BEGIN:STANDARD
TZOFFSETFROM:-0400
TZOFFSETTO:-0500
TZNAME:EST
DTSTART:20261101T060000
END:STANDARD
END:VTIMEZONE
BEGIN:VEVENT
DTSTART;TZID=America/New_York:20251112T120000
DTEND;TZID=America/New_York:20251112T130000
DTSTAMP:20260420T122016
CREATED:20250929T115952Z
LAST-MODIFIED:20251201T172722Z
UID:10000136-1762948800-1762952400@nibs.org
SUMMARY:What Should Drive the Sustainability Bus\, IEQ or Energy?
DESCRIPTION:Sponsored By: \n \n \nEfficiency programs seem to ignore the fact that the only reason why society uses energy in buildings is to condition people and generate domestic hot water. One would then think that all design ought to begin with the physiological and psychological needs of the occupants. However\, in the real world most energy efficiency programs focus exclusively on enclosures and equipment and have superficial Indoor Environmental Quality (IEQ) requirements. The hope is that the assembled systems will deliver the desired indoor climate with the modeled energy. The flaws in this approach are demonstrated in the poor results from thousands of post occupancy evaluations. \nDuring this session\, participants will learn the human sciences behind thermal comfort and air quality and how energy and exergy efficiency is the natural outcome from engineering the indoor environment using human factor design tools. \nLearning Objectives: \n\nAvoiding discomfort within the built environment is what drives energy use.\nOccupants don’t care about energy models\, they care about how they feel.\nThe body’s respiratory systems and how they are impacted by the quality of air.\nThe body’s thermoregulatory systems and how they are impacted by the architecture\, enclosure and interior systems as the primary control points before mechanicals.
URL:https://nibs.org/event/what-should-drive-the-sustainability-bus-ieq-or-energy/
LOCATION:Virtual Event
CATEGORIES:Advancing Building Enclosure Technology,BEST Webinar Series,Webinar
END:VEVENT
BEGIN:VEVENT
DTSTART;TZID=America/New_York:20251119T073000
DTEND;TZID=America/New_York:20251121T170000
DTSTAMP:20260420T122016
CREATED:20250721T164828Z
LAST-MODIFIED:20250721T164828Z
UID:10000118-1763537400-1763744400@nibs.org
SUMMARY:SBC 2025: Accelerate Readiness!
DESCRIPTION:The Society of American Military Engineers (SAME) Small Business Conference (SBC) for the Federal Architecture\, Engineering\, Construction\, and Facility Management and Maintenance Industry brings together federal agencies and businesses operating in the federal marketplace to: \n\nDeliver the most comprehensive and useful market research experience possible for all attendees\nLearn of and/or share upcoming contracting opportunities for small businesses\nConnect with teaming partners\nSupport the Nation’s contracting goals\nEngage in above-board networking between private companies and federal program managers and procurement/contracting officers\n\nMore than a dozen federal agencies have participated in SBC in recent years\, including the U.S. Army Corps of Engineers; Naval Facilities Engineering Command; Air Force Civil Engineer Center; Department of Veterans Affairs; Veterans Health Administration; Department of Energy; General Services Administration; Department of State; Small Business Administration; Environmental Protection Agency; Federal Emergency Management Agency; Federal Aviation Administration and National Aeronautics & Space Administration. \nFounded in 1920\, SAME unites public and private sector individuals and organizations from across the architecture\, engineering\, construction\, environmental\, facility management and maintenance\, cybersecurity\, project planning\, contracting and acquisition\, and related disciplines in support of national security.  SAME leads collaborative efforts to identify and resolve national security infrastructure-related challenges.
URL:https://nibs.org/event/sbc-2025-accelerate-readiness/
LOCATION:Phoenix Convention Center\, 100 N 3rd Street\, Phoenix\, AZ\, 85004\, United States
END:VEVENT
END:VCALENDAR