BEGIN:VCALENDAR
VERSION:2.0
PRODID:-//National Institute of Building Sciences - ECPv6.15.20//NONSGML v1.0//EN
CALSCALE:GREGORIAN
METHOD:PUBLISH
X-ORIGINAL-URL:https://nibs.org
X-WR-CALDESC:Events for National Institute of Building Sciences
REFRESH-INTERVAL;VALUE=DURATION:PT1H
X-Robots-Tag:noindex
X-PUBLISHED-TTL:PT1H
BEGIN:VTIMEZONE
TZID:UTC
BEGIN:STANDARD
TZOFFSETFROM:+0000
TZOFFSETTO:+0000
TZNAME:UTC
DTSTART:20230101T000000
END:STANDARD
END:VTIMEZONE
BEGIN:VEVENT
DTSTART;TZID=UTC:20240731T140000
DTEND;TZID=UTC:20240731T150000
DTSTAMP:20260419T125145
CREATED:20250428T120225Z
LAST-MODIFIED:20250728T125355Z
UID:10000055-1722434400-1722438000@nibs.org
SUMMARY:NASA’s POWER Project: Global Solar Insolation\, Meteorological Parameter Data\, and Web Services to Support Sustainable Building Design and Operations
DESCRIPTION:The building industry is striving to adopt green solutions to make infrastructure more energy efficient to meet the 2050 net-zero climate goals. \nPlanning requires reliable environmental datasets that are crucial in designing\, building\, and maintaining the global built environment\, as well as other energy-related processes and investments. NASA’s Prediction of Worldwide Energy Resources (POWER) Project informs decision-making and development for sustainable building design and operations by enabling public open discovery\, efficient access\, and convenient distribution of NASA’s Earth Observations and atmospheric model datasets to support three focus areas: 1) renewable energy deployment and management\, 2) sustainable infrastructure\, and 3) agroclimatology applications. \nTo this end\, solar data from several NASA projects and meteorological data from NASA assimilation models have already been reformatted and disseminated to the public via a user-friendly web GIS-enabled based data portal through the POWER platform. \nThe POWER Data Access Viewer (DAV) also features data consistent with ASHRAE Climate Design Conditions and has developed web image services showing building climate zones and their variability. Through those tools\, the data can be downloaded into multiple formats that support the infrastructure community\, including CSV\, Geo-JSON\, and Energy Plus Weather (EPW). \n\nLearning Objectives\n\n\n\n\nProvide an overview of the NASA POWER Project’s data and services developed in collaboration with the sustainable infrastructure community\nDiscuss the data sources and the process of determining their uncertainties\nFeature brief demonstrations of using the DAV to obtain parameters\nDiscuss examples of how the renewable energy and building communities have utilized POWER data products to make decisions and preview of future data product expansion\, including climate projections\, and web services will also be provided
URL:https://nibs.org/event/nasas-power-project-global-solar-insolation-meteorological-parameter-data-and-web-services-to-support-sustainable-building-design-and-operations/
LOCATION:Virtual Event
CATEGORIES:Building Innovation Webinar Series
END:VEVENT
END:VCALENDAR